BEGIN:VCALENDAR
VERSION:2.0
PRODID:-//Iranian Women&#039;s Organization of Ontario - ECPv6.15.20//NONSGML v1.0//EN
CALSCALE:GREGORIAN
METHOD:PUBLISH
X-WR-CALNAME:Iranian Women&#039;s Organization of Ontario
X-ORIGINAL-URL:https://iwoo.azurewebsites.net
X-WR-CALDESC:Events for Iranian Women&#039;s Organization of Ontario
REFRESH-INTERVAL;VALUE=DURATION:PT1H
X-Robots-Tag:noindex
X-PUBLISHED-TTL:PT1H
BEGIN:VTIMEZONE
TZID:America/Toronto
BEGIN:DAYLIGHT
TZOFFSETFROM:-0500
TZOFFSETTO:-0400
TZNAME:EDT
DTSTART:20240310T070000
END:DAYLIGHT
BEGIN:STANDARD
TZOFFSETFROM:-0400
TZOFFSETTO:-0500
TZNAME:EST
DTSTART:20241103T060000
END:STANDARD
BEGIN:DAYLIGHT
TZOFFSETFROM:-0500
TZOFFSETTO:-0400
TZNAME:EDT
DTSTART:20250309T070000
END:DAYLIGHT
BEGIN:STANDARD
TZOFFSETFROM:-0400
TZOFFSETTO:-0500
TZNAME:EST
DTSTART:20251102T060000
END:STANDARD
BEGIN:DAYLIGHT
TZOFFSETFROM:-0500
TZOFFSETTO:-0400
TZNAME:EDT
DTSTART:20260308T070000
END:DAYLIGHT
BEGIN:STANDARD
TZOFFSETFROM:-0400
TZOFFSETTO:-0500
TZNAME:EST
DTSTART:20261101T060000
END:STANDARD
END:VTIMEZONE
BEGIN:VEVENT
DTSTART;TZID=America/Toronto:20250501T110000
DTEND;TZID=America/Toronto:20250501T150000
DTSTAMP:20260425T121449
CREATED:20250110T184127Z
LAST-MODIFIED:20250110T184127Z
UID:10218983-1746097200-1746111600@iwoo.azurewebsites.net
SUMMARY:Seniors Program
DESCRIPTION:
URL:https://iwoo.azurewebsites.net/event/seniors-program/2025-05-01/
LOCATION:ON
CATEGORIES:Family & Senior
ATTACH;FMTTYPE=image/png:/wp-content/uploads/2022/08/asvs-farsi.png
END:VEVENT
BEGIN:VEVENT
DTSTART;TZID=America/Toronto:20250505T110000
DTEND;TZID=America/Toronto:20250505T160000
DTSTAMP:20260425T121449
CREATED:20231115T031958Z
LAST-MODIFIED:20251229T210041Z
UID:10222510-1746442800-1746460800@iwoo.azurewebsites.net
SUMMARY:Senior Club - In Person
DESCRIPTION:
URL:https://iwoo.azurewebsites.net/event/senior-club-in-person/2025-05-05/
LOCATION:ON
CATEGORIES:Family & Senior
END:VEVENT
BEGIN:VEVENT
DTSTART;TZID=America/Toronto:20250508T110000
DTEND;TZID=America/Toronto:20250508T150000
DTSTAMP:20260425T121449
CREATED:20250110T184127Z
LAST-MODIFIED:20250110T184127Z
UID:10218984-1746702000-1746716400@iwoo.azurewebsites.net
SUMMARY:Seniors Program
DESCRIPTION:
URL:https://iwoo.azurewebsites.net/event/seniors-program/2025-05-08/
LOCATION:ON
CATEGORIES:Family & Senior
ATTACH;FMTTYPE=image/png:/wp-content/uploads/2022/08/asvs-farsi.png
END:VEVENT
BEGIN:VEVENT
DTSTART;TZID=America/Toronto:20250512T110000
DTEND;TZID=America/Toronto:20250512T160000
DTSTAMP:20260425T121449
CREATED:20231115T031958Z
LAST-MODIFIED:20251229T210041Z
UID:10222511-1747047600-1747065600@iwoo.azurewebsites.net
SUMMARY:Senior Club - In Person
DESCRIPTION:
URL:https://iwoo.azurewebsites.net/event/senior-club-in-person/2025-05-12/
LOCATION:ON
CATEGORIES:Family & Senior
END:VEVENT
BEGIN:VEVENT
DTSTART;TZID=America/Toronto:20250515T110000
DTEND;TZID=America/Toronto:20250515T150000
DTSTAMP:20260425T121449
CREATED:20250110T184127Z
LAST-MODIFIED:20250110T184127Z
UID:10218985-1747306800-1747321200@iwoo.azurewebsites.net
SUMMARY:Seniors Program
DESCRIPTION:
URL:https://iwoo.azurewebsites.net/event/seniors-program/2025-05-15/
LOCATION:ON
CATEGORIES:Family & Senior
ATTACH;FMTTYPE=image/png:/wp-content/uploads/2022/08/asvs-farsi.png
END:VEVENT
BEGIN:VEVENT
DTSTART;TZID=America/Toronto:20250519T110000
DTEND;TZID=America/Toronto:20250519T160000
DTSTAMP:20260425T121449
CREATED:20231115T031958Z
LAST-MODIFIED:20251229T210041Z
UID:10222512-1747652400-1747670400@iwoo.azurewebsites.net
SUMMARY:Senior Club - In Person
DESCRIPTION:
URL:https://iwoo.azurewebsites.net/event/senior-club-in-person/2025-05-19/
LOCATION:ON
CATEGORIES:Family & Senior
END:VEVENT
BEGIN:VEVENT
DTSTART;TZID=America/Toronto:20250522T110000
DTEND;TZID=America/Toronto:20250522T150000
DTSTAMP:20260425T121449
CREATED:20250110T184127Z
LAST-MODIFIED:20250110T184127Z
UID:10218986-1747911600-1747926000@iwoo.azurewebsites.net
SUMMARY:Seniors Program
DESCRIPTION:
URL:https://iwoo.azurewebsites.net/event/seniors-program/2025-05-22/
LOCATION:ON
CATEGORIES:Family & Senior
ATTACH;FMTTYPE=image/png:/wp-content/uploads/2022/08/asvs-farsi.png
END:VEVENT
BEGIN:VEVENT
DTSTART;TZID=America/Toronto:20250526T110000
DTEND;TZID=America/Toronto:20250526T160000
DTSTAMP:20260425T121449
CREATED:20231115T031958Z
LAST-MODIFIED:20251229T210041Z
UID:10222513-1748257200-1748275200@iwoo.azurewebsites.net
SUMMARY:Senior Club - In Person
DESCRIPTION:
URL:https://iwoo.azurewebsites.net/event/senior-club-in-person/2025-05-26/
LOCATION:ON
CATEGORIES:Family & Senior
END:VEVENT
BEGIN:VEVENT
DTSTART;TZID=America/Toronto:20250529T110000
DTEND;TZID=America/Toronto:20250529T150000
DTSTAMP:20260425T121449
CREATED:20250110T184127Z
LAST-MODIFIED:20250110T184127Z
UID:10218987-1748516400-1748530800@iwoo.azurewebsites.net
SUMMARY:Seniors Program
DESCRIPTION:
URL:https://iwoo.azurewebsites.net/event/seniors-program/2025-05-29/
LOCATION:ON
CATEGORIES:Family & Senior
ATTACH;FMTTYPE=image/png:/wp-content/uploads/2022/08/asvs-farsi.png
END:VEVENT
END:VCALENDAR