BEGIN:VCALENDAR
VERSION:2.0
PRODID:-//Iranian Women&#039;s Organization of Ontario - ECPv6.15.20//NONSGML v1.0//EN
CALSCALE:GREGORIAN
METHOD:PUBLISH
X-ORIGINAL-URL:https://iwoo.azurewebsites.net
X-WR-CALDESC:Events for Iranian Women&#039;s Organization of Ontario
REFRESH-INTERVAL;VALUE=DURATION:PT1H
X-Robots-Tag:noindex
X-PUBLISHED-TTL:PT1H
BEGIN:VTIMEZONE
TZID:America/Toronto
BEGIN:DAYLIGHT
TZOFFSETFROM:-0500
TZOFFSETTO:-0400
TZNAME:EDT
DTSTART:20250309T070000
END:DAYLIGHT
BEGIN:STANDARD
TZOFFSETFROM:-0400
TZOFFSETTO:-0500
TZNAME:EST
DTSTART:20251102T060000
END:STANDARD
BEGIN:DAYLIGHT
TZOFFSETFROM:-0500
TZOFFSETTO:-0400
TZNAME:EDT
DTSTART:20260308T070000
END:DAYLIGHT
BEGIN:STANDARD
TZOFFSETFROM:-0400
TZOFFSETTO:-0500
TZNAME:EST
DTSTART:20261101T060000
END:STANDARD
BEGIN:DAYLIGHT
TZOFFSETFROM:-0500
TZOFFSETTO:-0400
TZNAME:EDT
DTSTART:20270314T070000
END:DAYLIGHT
BEGIN:STANDARD
TZOFFSETFROM:-0400
TZOFFSETTO:-0500
TZNAME:EST
DTSTART:20271107T060000
END:STANDARD
END:VTIMEZONE
BEGIN:VEVENT
DTSTART;TZID=America/Toronto:20260326T110000
DTEND;TZID=America/Toronto:20260326T150000
DTSTAMP:20260420T084423
CREATED:20251230T204646Z
LAST-MODIFIED:20251230T225405Z
UID:10219030-1774522800-1774537200@iwoo.azurewebsites.net
SUMMARY:Seniors Program
DESCRIPTION:
URL:https://iwoo.azurewebsites.net/event/seniors-program-2/2026-03-26/
LOCATION:1761 Sheppar Ave E\, 1761 Sheppard Avenue East\, Toronto\, ON\, M2J 0A5\, Canada
CATEGORIES:Family & Senior
ATTACH;FMTTYPE=image/png:/wp-content/uploads/2022/08/asvs-farsi.png
END:VEVENT
BEGIN:VEVENT
DTSTART;TZID=America/Toronto:20260326T160000
DTEND;TZID=America/Toronto:20260326T170000
DTSTAMP:20260420T084423
CREATED:20251230T182556Z
LAST-MODIFIED:20260107T210207Z
UID:10223908-1774540800-1774544400@iwoo.azurewebsites.net
SUMMARY:Zumba - In person
DESCRIPTION:
URL:https://iwoo.azurewebsites.net/event/zumba-in-person/2026-03-26/
LOCATION:Parkway Forest Community Centre\, 55 Parkway Forest Rd. 2nd Floor\, Toronto\, Ontario\, M2J 1G3\, Canada
END:VEVENT
BEGIN:VEVENT
DTSTART;TZID=America/Toronto:20260326T170000
DTEND;TZID=America/Toronto:20260326T180000
DTSTAMP:20260420T084423
CREATED:20251230T183012Z
LAST-MODIFIED:20260107T210158Z
UID:10224012-1774544400-1774548000@iwoo.azurewebsites.net
SUMMARY:Yoga Class - In person
DESCRIPTION:
URL:https://iwoo.azurewebsites.net/event/yoga-in-person/2026-03-26/
LOCATION:Parkway Forest Community Centre\, 55 Parkway Forest Rd. 2nd Floor\, Toronto\, Ontario\, M2J 1G3\, Canada
END:VEVENT
BEGIN:VEVENT
DTSTART;TZID=America/Toronto:20260326T173000
DTEND;TZID=America/Toronto:20260326T190000
DTSTAMP:20260420T084423
CREATED:20260310T193522Z
LAST-MODIFIED:20260312T131552Z
UID:10225127-1774546200-1774551600@iwoo.azurewebsites.net
SUMMARY:Empathy as Empowerment
DESCRIPTION:
URL:https://iwoo.azurewebsites.net/event/em2x26/
LOCATION:Online
ATTACH;FMTTYPE=image/png:/wp-content/uploads/2026/03/empathy-vs-empowerment-scaled.png
END:VEVENT
BEGIN:VEVENT
DTSTART;TZID=America/Toronto:20260326T190000
DTEND;TZID=America/Toronto:20260326T220000
DTSTAMP:20260420T084423
CREATED:20251230T184316Z
LAST-MODIFIED:20260106T035332Z
UID:10224089-1774551600-1774562400@iwoo.azurewebsites.net
SUMMARY:Choir Class - In person
DESCRIPTION:
URL:https://iwoo.azurewebsites.net/event/choir-class-in-person/2026-03-26/
LOCATION:1761 Sheppar Ave E\, 1761 Sheppard Avenue East\, Toronto\, ON\, M2J 0A5\, Canada
END:VEVENT
END:VCALENDAR