BEGIN:VCALENDAR
VERSION:2.0
PRODID:-//Iranian Women&#039;s Organization of Ontario - ECPv6.15.20//NONSGML v1.0//EN
CALSCALE:GREGORIAN
METHOD:PUBLISH
X-ORIGINAL-URL:https://iwoo.azurewebsites.net
X-WR-CALDESC:Events for Iranian Women&#039;s Organization of Ontario
REFRESH-INTERVAL;VALUE=DURATION:PT1H
X-Robots-Tag:noindex
X-PUBLISHED-TTL:PT1H
BEGIN:VTIMEZONE
TZID:America/Toronto
BEGIN:DAYLIGHT
TZOFFSETFROM:-0500
TZOFFSETTO:-0400
TZNAME:EDT
DTSTART:20250309T070000
END:DAYLIGHT
BEGIN:STANDARD
TZOFFSETFROM:-0400
TZOFFSETTO:-0500
TZNAME:EST
DTSTART:20251102T060000
END:STANDARD
BEGIN:DAYLIGHT
TZOFFSETFROM:-0500
TZOFFSETTO:-0400
TZNAME:EDT
DTSTART:20260308T070000
END:DAYLIGHT
BEGIN:STANDARD
TZOFFSETFROM:-0400
TZOFFSETTO:-0500
TZNAME:EST
DTSTART:20261101T060000
END:STANDARD
BEGIN:DAYLIGHT
TZOFFSETFROM:-0500
TZOFFSETTO:-0400
TZNAME:EDT
DTSTART:20270314T070000
END:DAYLIGHT
BEGIN:STANDARD
TZOFFSETFROM:-0400
TZOFFSETTO:-0500
TZNAME:EST
DTSTART:20271107T060000
END:STANDARD
END:VTIMEZONE
BEGIN:VEVENT
DTSTART;TZID=America/Toronto:20260303T093000
DTEND;TZID=America/Toronto:20260303T110000
DTSTAMP:20260420T184908
CREATED:20251230T153859Z
LAST-MODIFIED:20260106T035408Z
UID:10223863-1772530200-1772535600@iwoo.azurewebsites.net
SUMMARY:English Conversation Class Intermediate Level
DESCRIPTION:
URL:https://iwoo.azurewebsites.net/event/eccl2/2026-03-03/
LOCATION:Online
ATTACH;FMTTYPE=image/png:/wp-content/uploads/2025/12/english-class-scaled.png
END:VEVENT
BEGIN:VEVENT
DTSTART;TZID=America/Toronto:20260303T100000
DTEND;TZID=America/Toronto:20260303T130000
DTSTAMP:20260420T184908
CREATED:20251230T175058Z
LAST-MODIFIED:20260106T035405Z
UID:10223647-1772532000-1772542800@iwoo.azurewebsites.net
SUMMARY:Job Assistant Counselling - online
DESCRIPTION:
URL:https://iwoo.azurewebsites.net/event/job-assistant-counselling-online/2026-03-03/
LOCATION:Online
END:VEVENT
BEGIN:VEVENT
DTSTART;TZID=America/Toronto:20260303T100000
DTEND;TZID=America/Toronto:20260303T130000
DTSTAMP:20260420T184908
CREATED:20260127T214249Z
LAST-MODIFIED:20260127T214431Z
UID:10224861-1772532000-1772542800@iwoo.azurewebsites.net
SUMMARY:Looking for a strong start to your career?
DESCRIPTION:
URL:https://iwoo.azurewebsites.net/event/looking-for-a-strong-start-to-your-career/2026-03-03/
LOCATION:Online
ATTACH;FMTTYPE=image/png:/wp-content/uploads/2026/01/career.png
END:VEVENT
BEGIN:VEVENT
DTSTART;TZID=America/Toronto:20260303T113000
DTEND;TZID=America/Toronto:20260303T130000
DTSTAMP:20260420T184908
CREATED:20251229T195534Z
LAST-MODIFIED:20260106T035400Z
UID:10222187-1772537400-1772542800@iwoo.azurewebsites.net
SUMMARY:Let's Speak English - Online
DESCRIPTION:
URL:https://iwoo.azurewebsites.net/event/lets-speak-english-26/2026-03-03/
LOCATION:Online
CATEGORIES:Settlement & Newcomer
END:VEVENT
BEGIN:VEVENT
DTSTART;TZID=America/Toronto:20260303T173000
DTEND;TZID=America/Toronto:20260303T190000
DTSTAMP:20260420T184908
CREATED:20251216T211033Z
LAST-MODIFIED:20260106T035250Z
UID:10223431-1772559000-1772564400@iwoo.azurewebsites.net
SUMMARY:شاهنامه خوانی
DESCRIPTION:
URL:https://iwoo.azurewebsites.net/event/shread/2026-03-03/
LOCATION:Online
CATEGORIES:Art & Culture
ATTACH;FMTTYPE=image/png:/wp-content/uploads/2025/12/Shahnameh-Reading-scaled.png
END:VEVENT
END:VCALENDAR