BEGIN:VCALENDAR
VERSION:2.0
PRODID:-//Iranian Women&#039;s Organization of Ontario - ECPv6.15.20//NONSGML v1.0//EN
CALSCALE:GREGORIAN
METHOD:PUBLISH
X-WR-CALNAME:Iranian Women&#039;s Organization of Ontario
X-ORIGINAL-URL:https://iwoo.azurewebsites.net
X-WR-CALDESC:Events for Iranian Women&#039;s Organization of Ontario
REFRESH-INTERVAL;VALUE=DURATION:PT1H
X-Robots-Tag:noindex
X-PUBLISHED-TTL:PT1H
BEGIN:VTIMEZONE
TZID:America/Toronto
BEGIN:DAYLIGHT
TZOFFSETFROM:-0500
TZOFFSETTO:-0400
TZNAME:EDT
DTSTART:20240310T070000
END:DAYLIGHT
BEGIN:STANDARD
TZOFFSETFROM:-0400
TZOFFSETTO:-0500
TZNAME:EST
DTSTART:20241103T060000
END:STANDARD
BEGIN:DAYLIGHT
TZOFFSETFROM:-0500
TZOFFSETTO:-0400
TZNAME:EDT
DTSTART:20250309T070000
END:DAYLIGHT
BEGIN:STANDARD
TZOFFSETFROM:-0400
TZOFFSETTO:-0500
TZNAME:EST
DTSTART:20251102T060000
END:STANDARD
BEGIN:DAYLIGHT
TZOFFSETFROM:-0500
TZOFFSETTO:-0400
TZNAME:EDT
DTSTART:20260308T070000
END:DAYLIGHT
BEGIN:STANDARD
TZOFFSETFROM:-0400
TZOFFSETTO:-0500
TZNAME:EST
DTSTART:20261101T060000
END:STANDARD
END:VTIMEZONE
BEGIN:VEVENT
DTSTART;TZID=America/Toronto:20250925T180000
DTEND;TZID=America/Toronto:20250925T193000
DTSTAMP:20260420T123718
CREATED:20250917T163822Z
LAST-MODIFIED:20250917T163843Z
UID:13280-1758823200-1758828600@iwoo.azurewebsites.net
SUMMARY:Raising Awareness for Suicide Prevention
DESCRIPTION:
URL:https://iwoo.azurewebsites.net/event/rasp/
LOCATION:Online
CATEGORIES:Mental Health
END:VEVENT
END:VCALENDAR