BEGIN:VCALENDAR
VERSION:2.0
PRODID:-//Iranian Women&#039;s Organization of Ontario - ECPv6.15.20//NONSGML v1.0//EN
CALSCALE:GREGORIAN
METHOD:PUBLISH
X-WR-CALNAME:Iranian Women&#039;s Organization of Ontario
X-ORIGINAL-URL:https://iwoo.azurewebsites.net
X-WR-CALDESC:Events for Iranian Women&#039;s Organization of Ontario
REFRESH-INTERVAL;VALUE=DURATION:PT1H
X-Robots-Tag:noindex
X-PUBLISHED-TTL:PT1H
BEGIN:VTIMEZONE
TZID:America/Toronto
BEGIN:DAYLIGHT
TZOFFSETFROM:-0500
TZOFFSETTO:-0400
TZNAME:EDT
DTSTART:20240310T070000
END:DAYLIGHT
BEGIN:STANDARD
TZOFFSETFROM:-0400
TZOFFSETTO:-0500
TZNAME:EST
DTSTART:20241103T060000
END:STANDARD
BEGIN:DAYLIGHT
TZOFFSETFROM:-0500
TZOFFSETTO:-0400
TZNAME:EDT
DTSTART:20250309T070000
END:DAYLIGHT
BEGIN:STANDARD
TZOFFSETFROM:-0400
TZOFFSETTO:-0500
TZNAME:EST
DTSTART:20251102T060000
END:STANDARD
BEGIN:DAYLIGHT
TZOFFSETFROM:-0500
TZOFFSETTO:-0400
TZNAME:EDT
DTSTART:20260308T070000
END:DAYLIGHT
BEGIN:STANDARD
TZOFFSETFROM:-0400
TZOFFSETTO:-0500
TZNAME:EST
DTSTART:20261101T060000
END:STANDARD
END:VTIMEZONE
BEGIN:VEVENT
DTSTART;TZID=America/Toronto:20251024T180000
DTEND;TZID=America/Toronto:20251024T200000
DTSTAMP:20260420T080912
CREATED:20250910T174308Z
LAST-MODIFIED:20250910T180646Z
UID:13232-1761328800-1761336000@iwoo.azurewebsites.net
SUMMARY:2025 Annual General Meeting
DESCRIPTION:We are delighted to invite you to join us for the IWOO 2025 Annual General Meeting\, taking place on Friday\, October 24\, 2025. Your presence as a valued member of our community is truly appreciated. \nPlease see the attached flyer for additional details. \n📅 Date: Friday\, October 24\, 2025\n⏰ Time: 6-8 PM\n📍 Location: Parkway Forest Community Centre\n55 Parkway Forest Rd.\, 2nd Floor\, Toronto\, ON \nTo confirm your attendance\, please register by October 10 \nIf you’re unable to attend in person\, you may appoint someone to vote on your behalf by proxy. Kindly proceed through this link: https://forms.gle/Nud9z6PaMsKeizeM8 \nWe look forward to celebrating our milestones and sharing exciting updates with you at the AGM!
URL:https://iwoo.azurewebsites.net/event/agm2025/
LOCATION:Parkway Forest Community Centre\, 55 Parkway Forest Rd. 2nd Floor\, Toronto\, Ontario\, M2J 1G3\, Canada
END:VEVENT
END:VCALENDAR